BEGIN:VCALENDAR
VERSION:2.0
PRODID:-//Expert Education Australia - ECPv6.0.12//NONSGML v1.0//EN
CALSCALE:GREGORIAN
METHOD:PUBLISH
X-ORIGINAL-URL:https://experteducation.com/australia
X-WR-CALDESC:Events for Expert Education Australia
REFRESH-INTERVAL;VALUE=DURATION:PT1H
X-Robots-Tag:noindex
X-PUBLISHED-TTL:PT1H
BEGIN:VTIMEZONE
TZID:Australia/Sydney
BEGIN:STANDARD
TZOFFSETFROM:+1100
TZOFFSETTO:+1000
TZNAME:AEST
DTSTART:20230401T160000
END:STANDARD
BEGIN:DAYLIGHT
TZOFFSETFROM:+1000
TZOFFSETTO:+1100
TZNAME:AEDT
DTSTART:20230930T160000
END:DAYLIGHT
END:VTIMEZONE
BEGIN:VEVENT
DTSTART;TZID=Australia/Sydney:20230503T150000
DTEND;TZID=Australia/Sydney:20230503T154500
DTSTAMP:20260424T192751
CREATED:20230421T013415Z
LAST-MODIFIED:20230421T013636Z
UID:10000015-1683126000-1683128700@experteducation.com
SUMMARY:Navigating Skilled Migration Process
DESCRIPTION:[vc_row][vc_column][vc_single_image image=”18264″ img_size=”full”][vc_column_text]Navigating the skilled migration process in Australia can be a daunting task. It requires a clear understanding of the visa options available\, eligibility requirements\, skills assessments\, points requirements\, and more. With the constantly changing immigration laws and regulations\, it can be challenging to keep up with the latest updates. However\, with the right guidance and support\, you can successfully navigate the process and achieve your goal of obtaining permanent residency in Australia. \nIn this webinar session\, we will provide a comprehensive guide on navigating the skilled migration process in Australia. Our registered migration agents will cover important topics such as Skills Assessment\, Points Requirement\, EOI Lodgement\, and State Migration\, and will share valuable insights and tips for a successful migration journey. This webinar is designed to help you understand the process and maximize your chances of success. Don’t miss this opportunity to learn from our experts![/vc_column_text]\n		Register Now [/vc_column][/vc_row]
URL:https://experteducation.com/australia/event/navigating-skilled-migration-process/
LOCATION:NSW
CATEGORIES:Migration
ATTACH;FMTTYPE=image/jpeg:https://cdn.experteducation.com/wp-content/uploads/sites/5/2023/04/20165554/Topic-of-the-Month.jpg
ORGANIZER;CN="EEVS%20Sydney":MAILTO:info@experteducation.com.au
END:VEVENT
END:VCALENDAR