BEGIN:VCALENDAR
VERSION:2.0
PRODID:-//Expert Education Australia - ECPv6.0.12//NONSGML v1.0//EN
CALSCALE:GREGORIAN
METHOD:PUBLISH
X-ORIGINAL-URL:https://experteducation.com/australia
X-WR-CALDESC:Events for Expert Education Australia
REFRESH-INTERVAL;VALUE=DURATION:PT1H
X-Robots-Tag:noindex
X-PUBLISHED-TTL:PT1H
BEGIN:VTIMEZONE
TZID:Australia/Sydney
BEGIN:STANDARD
TZOFFSETFROM:+1100
TZOFFSETTO:+1000
TZNAME:AEST
DTSTART:20230401T160000
END:STANDARD
BEGIN:DAYLIGHT
TZOFFSETFROM:+1000
TZOFFSETTO:+1100
TZNAME:AEDT
DTSTART:20230930T160000
END:DAYLIGHT
END:VTIMEZONE
BEGIN:VEVENT
DTSTART;TZID=Australia/Sydney:20230728T150000
DTEND;TZID=Australia/Sydney:20230728T154500
DTSTAMP:20260424T162814
CREATED:20230724T012935Z
LAST-MODIFIED:20230724T012935Z
UID:10000017-1690556400-1690559100@experteducation.com
SUMMARY:Chef: New Simplified Graduate Pathway for PR
DESCRIPTION:[vc_row][vc_column][vc_single_image image=”18410″ img_size=”full”][vc_column_text]In this dynamic webinar\, we will dive into the latest developments in the Job Ready Program (JRP) and how it opens up a new pathway for chefs to attain Australian Permanent Residency (PR) faster than ever before. Our expert panel of migration consultants and industry professionals will provide valuable insights and step-by-step guidance to expedite your PR process through the updated JRP. \nPurpose: Explore the recent changes to the Job Ready Program and how they offer a faster route to Australian PR for chefs. \nBenefits: Learn how this new approach allows you to fast-track your PR journey and open up exciting career opportunities in Australia. Gain clarity on the skill assessment process for chefs and how it fits into your migration options. \nRequirements: Learn about the specific requirements and qualifications needed to take advantage of this accelerated pathway. \nMaximizing the Opportunity: Get expert tips on ensuring a smooth and successful outcome. \nSecure your spot in this transformative webinar today to learn how the updated Job Ready Program can be your pathway to Australian PR and a promising future in the culinary industry.[/vc_column_text]\n		Register Now [/vc_column][/vc_row]
URL:https://experteducation.com/australia/event/chef-new-simplified-graduate-pathway-for-pr/
LOCATION:NSW
CATEGORIES:Migration
ATTACH;FMTTYPE=image/jpeg:https://cdn.experteducation.com/wp-content/uploads/sites/5/2023/07/20165543/Season-3.jpg
ORGANIZER;CN="EEVS%20Sydney":MAILTO:info@experteducation.com.au
END:VEVENT
END:VCALENDAR