BEGIN:VCALENDAR
VERSION:2.0
PRODID:-//Cambodia - ECPv6.0.12//NONSGML v1.0//EN
CALSCALE:GREGORIAN
METHOD:PUBLISH
X-ORIGINAL-URL:https://experteducation.com/cambodia
X-WR-CALDESC:Events for Cambodia
REFRESH-INTERVAL;VALUE=DURATION:PT1H
X-Robots-Tag:noindex
X-PUBLISHED-TTL:PT1H
BEGIN:VTIMEZONE
TZID:Australia/Sydney
BEGIN:STANDARD
TZOFFSETFROM:+1100
TZOFFSETTO:+1000
TZNAME:AEST
DTSTART:20210403T160000
END:STANDARD
BEGIN:DAYLIGHT
TZOFFSETFROM:+1000
TZOFFSETTO:+1100
TZNAME:AEDT
DTSTART:20211002T160000
END:DAYLIGHT
TZID:Asia/Phnom_Penh
BEGIN:STANDARD
TZOFFSETFROM:+0700
TZOFFSETTO:+0700
TZNAME:+07
DTSTART:20250101T000000
END:STANDARD
END:VTIMEZONE
BEGIN:VEVENT
DTSTART;VALUE=DATE:20210420
DTEND;VALUE=DATE:20210501
DTSTAMP:20260420T201056
CREATED:20210408T104353Z
LAST-MODIFIED:20220830T091351Z
UID:16361-1618876800-1619827199@experteducation.com
SUMMARY:Virtual Admissions Day
DESCRIPTION:[vc_row css=”.vc_custom_1618450173076{margin-bottom: 0px !important;}”][vc_column][vc_single_image image=”17625″ img_size=”full”][vc_column_text css=”.vc_custom_1618450185104{margin-bottom: 0px !important;}”]Expert Education invites all aspiring international students to join our state-specific ‘Virtual Admissions Day’ happening from 20 April 2021 – 30 April 2021.[/vc_column_text][/vc_column][/vc_row][vc_row css=”.vc_custom_1618450219336{margin-top: 10px !important;}”][vc_column offset=”vc_hidden-lg vc_hidden-md” css=”.vc_custom_1618450240960{margin-top: 20px !important;}”]\n		Register[/vc_column][/vc_row][vc_row][vc_column][vc_column_text] \nWhat is a state-specific Virtual Admissions Day?\nTaking a different approach\, we are hosting state-specific virtual admissions day. Every day from 20 April\, you can meet institutions from different state and territories and have a one-on-one consultation with the representatives. You can learn more about your preferred institutions\, their upcoming intake and enrolments\, varied course options and most importantly\, the available scholarships to start your course in 2021. \nHow will it work?\nWe will use the Zoom platform to host the Virtual Admissions Day. You can e-meet the institution representatives in their respective breakout rooms. As you enter the zoom meeting\, the event host (Expert Education counsellor) will allocate you to speak with the institution representative based on your interest and career aspirations.   \nHow can I benefit?\nThis is an excellent opportunity to meet a range of education providers\, explore your 2021 study options and start your preferred course this year. If you are not in Australia\, you will get to know about the online study options (if available) and start your course from your home country. Further benefits of attending the sessions are listed below: \n\nOne-on-one consultation with your preferred education providers\nOne-on-one consultation with Expert Education counsellor\nA chance to win a $250* gift card\nAvail HUGE Scholarships \n\n*The following Terms and Conditions apply \n\nOne person selected via lucky draw will be awarded a $250 gift voucher.\nTo be eligible\, you must attend at least one of our sessions (only registering for the event will not suffice)\n\n[/vc_column_text][/vc_column][/vc_row][vc_row themestek_bgcolor=”grey” full_width=”stretch_row” el_id=”registration-form”][vc_column]Event Timeline\n[/vc_column][/vc_row][vc_row themestek_bgcolor=”grey” full_width=”stretch_row” gap=”20″ content_placement=”middle” themestek_responsive_css=”67601207|colbreak_no|||||40||40||colbreak_no|||||30||30||colbreak_no|||||20||20|||colbreak_no|||||||||”][vc_column themestek_bgcolor=”white” reduce_extra_padding=”1200″ width=”1/3″ css=”.vc_custom_1617952869193{padding-top: 10px !important;padding-bottom: 10px !important;}”]ACT Admissions Day\n[vc_column_text] \n20 April 2021 ; 3:00 pm – 4:30 pm \n[/vc_column_text][vc_images_carousel images=”16458\,16457\,16456\,16455″ img_size=”full” speed=”3000″ autoplay=”yes” hide_pagination_control=”yes” hide_prev_next_buttons=”yes” wrap=”yes” el_class=”logo-slider-image”]\n		Register[/vc_column][vc_column themestek_bgcolor=”white” width=”1/3″ css=”.vc_custom_1617937327514{padding-top: 10px !important;padding-bottom: 10px !important;}”]NSW Admissions Day\n[vc_column_text] \n21 April 2021 ; 3:00 pm – 4:30 pm \n[/vc_column_text][vc_images_carousel images=”16451\,16478\,16454\,16453\,16452\,16490″ img_size=”full” speed=”3000″ autoplay=”yes” hide_pagination_control=”yes” hide_prev_next_buttons=”yes” wrap=”yes” el_class=”logo-slider-image”]\n		Register[/vc_column][vc_column themestek_bgcolor=”white” width=”1/3″ css=”.vc_custom_1617937333701{padding-top: 10px !important;padding-bottom: 10px !important;}”]NT Admissions Day\n[vc_column_text] \n22 April 2021 ; 3:00 pm – 4:30 pm \n[/vc_column_text][vc_images_carousel images=”16476\,16477″ img_size=”full” speed=”3000″ autoplay=”yes” hide_pagination_control=”yes” hide_prev_next_buttons=”yes” wrap=”yes” el_class=”logo-slider-image”]\n		Register[/vc_column][/vc_row][vc_row themestek_bgcolor=”grey” full_width=”stretch_row” gap=”20″ themestek_responsive_css=”67601207|colbreak_no|||||40||40||colbreak_no|||||30||30||colbreak_no|||||20||20|||colbreak_no|||||||||” css=”.vc_custom_1617937825237{padding-top: 0px !important;}”][vc_column themestek_bgcolor=”white” width=”1/3″ css=”.vc_custom_1617937312582{padding-top: 10px !important;padding-bottom: 10px !important;}”]Regional NSW Admissions Day\n[vc_column_text] \n23 April 2021 ; 3:00 pm – 4:30 pm \n[/vc_column_text][vc_images_carousel images=”16475\,16474″ img_size=”full” speed=”3000″ autoplay=”yes” hide_pagination_control=”yes” hide_prev_next_buttons=”yes” wrap=”yes” el_class=”logo-slider-image”]\n		Register[/vc_column][vc_column themestek_bgcolor=”white” width=”1/3″ css=”.vc_custom_1617937327514{padding-top: 10px !important;padding-bottom: 10px !important;}”]VIC Admissions Day\n[vc_column_text] \n26 April 2021 ; 3:00 pm – 4:30 pm \n[/vc_column_text][vc_images_carousel images=”16472\,16471\,16470″ img_size=”full” speed=”3000″ autoplay=”yes” hide_pagination_control=”yes” hide_prev_next_buttons=”yes” wrap=”yes” el_class=”logo-slider-image”]\n		Register[/vc_column][vc_column themestek_bgcolor=”white” width=”1/3″ css=”.vc_custom_1617937333701{padding-top: 10px !important;padding-bottom: 10px !important;}”]SA Admissions Day\n[vc_column_text] \n27 April 2021 ;  3:30 pm – 5:00 pm \n[/vc_column_text][vc_images_carousel images=”16469\,16468″ img_size=”full” speed=”2000″ autoplay=”yes” hide_pagination_control=”yes” hide_prev_next_buttons=”yes” wrap=”yes” el_class=”logo-slider-image”]\n		Register[/vc_column][/vc_row][vc_row themestek_bgcolor=”grey” full_width=”stretch_row” gap=”20″ themestek_responsive_css=”67601207|colbreak_no|||||40||40||colbreak_no|||||30||30||colbreak_no|||||20||20|||colbreak_no|||||||||” css=”.vc_custom_1617937895609{padding-bottom: 20px !important;}”][vc_column themestek_bgcolor=”white” width=”1/3″ css=”.vc_custom_1617937312582{padding-top: 10px !important;padding-bottom: 10px !important;}”]QLD Admissions Day\n[vc_column_text] \n28 April 2021 ; 3:00 pm – 4:30 pm \n[/vc_column_text][vc_images_carousel images=”16465\,16467\,16463\,16480\,16466″ img_size=”full” speed=”3000″ autoplay=”yes” hide_pagination_control=”yes” hide_prev_next_buttons=”yes” wrap=”yes” el_class=”logo-slider-image”]\n		Register[/vc_column][vc_column themestek_bgcolor=”white” width=”1/3″ css=”.vc_custom_1617937327514{padding-top: 10px !important;padding-bottom: 10px !important;}”]TAS Admissions Day\n[vc_column_text] \n29 April 2021 ; 3:00 pm – 4:30 pm \n[/vc_column_text][vc_images_carousel images=”16461\,16462″ img_size=”full” speed=”3000″ autoplay=”yes” hide_pagination_control=”yes” hide_prev_next_buttons=”yes” wrap=”yes” el_class=”logo-slider-image”]\n		Register[/vc_column][vc_column themestek_bgcolor=”white” width=”1/3″ css=”.vc_custom_1617937333701{padding-top: 10px !important;padding-bottom: 10px !important;}”]WA Admissions Day\n[vc_column_text] \n30 April 2021 ; 3:00 pm – 4:30 pm \n[/vc_column_text][vc_images_carousel images=”16460\,16459\,16472″ img_size=”full” speed=”3000″ autoplay=”yes” hide_pagination_control=”yes” hide_prev_next_buttons=”yes” wrap=”yes” el_class=”logo-slider-image”]\n		Register[/vc_column][/vc_row]
URL:https://experteducation.com/cambodia/event/virtual-admissions-day/
LOCATION:Phnom Penh
ATTACH;FMTTYPE=image/jpeg:https://cdn.experteducation.com/wp-content/uploads/sites/6/2021/04/20171104/Virtual-Information-Session-April-2021-Event-Banner.jpg
END:VEVENT
BEGIN:VEVENT
DTSTART;TZID=Australia/Sydney:20210615T130000
DTEND;TZID=Australia/Sydney:20210615T170000
DTSTAMP:20260420T201056
CREATED:20210607T075215Z
LAST-MODIFIED:20220830T140417Z
UID:16696-1623762000-1623776400@experteducation.com
SUMMARY:
DESCRIPTION:[vc_row][vc_column][vc_single_image image=”16698″ img_size=”full”][vc_column_text]Yes\, our Physical Face-to-Face event is back! \nExpert Education invites all aspiring international students to attend our face-to-face event happening on 15 June 2021. In this highly interactive physical event\, international students can not only get valuable information on Regional stay options but also can meet representatives from more than 20 universities and colleges and discuss their study options. \nKey Event Highlights \n\nInformation session by Registered Migration Agent focusing on:\n\nState & Territory Visa (190 & 491)\nEmployer Sponsored Visa (186 & 482)\n\n\nOne-on-one consultation with university and college representatives\n\n[/vc_column_text]\n		Register Now[vc_column_text]Benefits of attending \nThis is an excellent opportunity to speak with our Registered Migration Agents\, hear from a range of education providers\, explore your regional stay and study options and plan your future actions. \nYou can also reap the following additional benefits: \n\nFREE Individual Tax Returns voucher*\n$500 Expert Scholarship**\nUniversity & College Application fee waiver\nFree 2-hour PTE trial class at IPTE\n\nA much sought after physical event after a virtual break of 1.5 years – we invite all international students residing in the Sydney area to attend this session and reap the highest benefits. \nThis is a Registration-Only event. \n* Applicants must hold a 500 or 485 visa; applicable for only 2021 tax returns\n** Applicants must attend our event on 15 June and confirm their enrolment in June/July 2021 intake through us. \n[/vc_column_text][/vc_column][/vc_row][vc_row][vc_column]\n		Register Now[/vc_column][/vc_row]
URL:https://experteducation.com/cambodia/event/16696/
LOCATION:Expert Education & Visa Services Sydney\, Level 6\, 263 Clarence Street\, NSW\, 2000\, Australia
ATTACH;FMTTYPE=image/jpeg:https://cdn.experteducation.com/wp-content/uploads/sites/6/2021/06/20170724/June-Exhibition-Event-Banner-scaled_34_11zon.jpg
END:VEVENT
BEGIN:VEVENT
DTSTART;TZID=Asia/Phnom_Penh:20250711T130000
DTEND;TZID=Asia/Phnom_Penh:20250711T170000
DTSTAMP:20260420T201056
CREATED:20220725T093437Z
LAST-MODIFIED:20250701T143931Z
UID:17492-1752238800-1752253200@experteducation.com
SUMMARY:Scholarship and Journey Abroad to Australia & New Zealand
DESCRIPTION:
URL:https://experteducation.com/cambodia/event/scholarship-meet-with-representative-visa-preparation-australia-new-zealand/
LOCATION:Sofitel Phnom Penh Phokeethra\, Old August Site\, 26 Samdach Sothearos Blvd (3)\, Phnom Penh\, 12301\, Cambodia
ATTACH;FMTTYPE=image/png:https://cdn.experteducation.com/wp-content/uploads/sites/26/2022/07/01201930/Main.png
END:VEVENT
BEGIN:VEVENT
DTSTART;TZID=Asia/Phnom_Penh:20250823T093000
DTEND;TZID=Asia/Phnom_Penh:20250823T113000
DTSTAMP:20260420T201056
CREATED:20250811T045807Z
LAST-MODIFIED:20250811T091551Z
UID:19876-1755941400-1755948600@experteducation.com
SUMMARY:Chevening Scholarship Information Session
DESCRIPTION:
URL:https://experteducation.com/cambodia/event/chevening/
LOCATION:Expert Education and Visa Services Cambodia\, Ground Floor U06\, #113C\, Mao Tse Tung Boulevard (Street 245)\, Khan Beoung Keng Kang\, Phnom Penh\, Phnom Penh\, 12301\, Cambodia
CATEGORIES:Information Session
ATTACH;FMTTYPE=image/png:https://cdn.experteducation.com/wp-content/uploads/sites/26/2025/08/11161538/CVS.png
END:VEVENT
END:VCALENDAR